BEGIN:VCALENDAR
VERSION:2.0
PRODID:-//Tukios.com/
BEGIN:VEVENT
UID:40d63ee8-0186-4890-baf8-976ac38d8415@www.jacksonfh.net
DTSTAMP:20260425T192630Z
DTSTART:20260516T160000Z
DTEND:20260516T170000Z
SUMMARY:Funeral Service
DESCRIPTION:
URL:https://www.jacksonfh.net/obituaries/mark-andrew
LOCATION:1st Presbyterian Church of Haddonfield 20 East Kings Highway  
	Haddon Heights NJ 08035
GEO:39.8887936;-75.0534521
END:VEVENT
END:VCALENDAR