BEGIN:VCALENDAR
VERSION:2.0
PRODID:-//Tukios.com/
BEGIN:VEVENT
UID:1007c3a2-7357-4605-8c44-24ff9acf7542@www.jacksonfh.net
DTSTAMP:20260425T192255Z
DTSTART:20260516T133000Z
DTEND:20260516T153000Z
SUMMARY:Visitation
DESCRIPTION:
URL:https://www.jacksonfh.net/obituaries/mark-andrew
LOCATION:1st Presbyterian Church of Haddonfield 20 East Kings Highway  
	Haddon Heights NJ 08035
GEO:39.8887936;-75.0534521
END:VEVENT
END:VCALENDAR