BEGIN:VCALENDAR
VERSION:2.0
PRODID:-//Tukios.com/
BEGIN:VEVENT
UID:1939ca48-226b-4be8-9b7b-9873665230a3@www.jacksonfh.net
DTSTAMP:20260422T173731Z
DTSTART:20260427T144500Z
DTEND:20260427T154500Z
SUMMARY:Eulogy
DESCRIPTION:
URL:https://www.jacksonfh.net/obituaries/frank-montone-jr
LOCATION: 300 Kings Highway  Haddonfield NJ 08033
GEO:39.8876537;-75.0574646
END:VEVENT
END:VCALENDAR