BEGIN:VCALENDAR
VERSION:2.0
PRODID:-//Tukios.com/
BEGIN:VEVENT
UID:121e8d35-9e28-4e50-bb77-7305b19054db@www.jacksonfh.net
DTSTAMP:20260422T173140Z
DTSTART:20260427T170000Z
DTEND:20260427T180000Z
SUMMARY:Interment
DESCRIPTION:
URL:https://www.jacksonfh.net/obituaries/frank-montone-jr
LOCATION: 626 Baily Road  Yeadon PA 19050
GEO:39.9317397;-75.2564855
END:VEVENT
END:VCALENDAR