BEGIN:VCALENDAR
VERSION:2.0
PRODID:-//Tukios.com/
BEGIN:VEVENT
UID:438fa0b1-028c-47b0-844b-8564cca3bda9@www.jacksonfh.net
DTSTAMP:20260422T173636Z
DTSTART:20260427T150000Z
DTEND:20260427T160000Z
SUMMARY:Mass
DESCRIPTION:
URL:https://www.jacksonfh.net/obituaries/frank-montone-jr
LOCATION: 300 Kings Highway  Haddonfield NJ 08033
GEO:39.8876537;-75.0574646
END:VEVENT
END:VCALENDAR