BEGIN:VCALENDAR
VERSION:2.0
PRODID:-//Tukios.com/
BEGIN:VEVENT
UID:d6d5d78c-13b2-4301-89a5-8cb3509271f2@www.jacksonfh.net
DTSTAMP:20260422T173558Z
DTSTART:20260427T140000Z
DTEND:20260427T144500Z
SUMMARY:Visitation
DESCRIPTION:
URL:https://www.jacksonfh.net/obituaries/frank-montone-jr
LOCATION: 300 Kings Highway  Haddonfield NJ 08033
GEO:39.8876537;-75.0574646
END:VEVENT
END:VCALENDAR