BEGIN:VCALENDAR
VERSION:2.0
PRODID:-//Tukios.com/
BEGIN:VEVENT
UID:5ab34a0b-ef18-443a-bb19-19e8d0ead90d@www.jacksonfh.net
DTSTAMP:20260422T173114Z
DTSTART:20260426T220000Z
DTEND:20260427T000000Z
SUMMARY:Visitation
DESCRIPTION:
URL:https://www.jacksonfh.net/obituaries/frank-montone-jr
LOCATION: 308 Haddon Ave  Haddon Township NJ 08108
GEO:39.9077128;-75.0459922
END:VEVENT
END:VCALENDAR