BEGIN:VCALENDAR
VERSION:2.0
PRODID:-//Tukios.com/
BEGIN:VEVENT
UID:feeae014-ea0f-4b9c-9e76-402e95bb1707@www.jacksonfh.net
DTSTAMP:20260420T202130Z
DTSTART:20260424T230000Z
DTEND:20260425T000000Z
SUMMARY:Memorial Service
DESCRIPTION:
URL:https://www.jacksonfh.net/obituaries/denise-peeke
LOCATION: 308 Haddon Ave  Haddon Township NJ 08108
GEO:39.9077128;-75.0459922
END:VEVENT
END:VCALENDAR