BEGIN:VCALENDAR
VERSION:2.0
PRODID:-//Tukios.com/
BEGIN:VEVENT
UID:1d08cd07-0b3a-44e3-8ac4-93546bcdf2e5@www.jacksonfh.net
DTSTAMP:20260420T201828Z
DTSTART:20260424T210000Z
DTEND:20260424T230000Z
SUMMARY:Viewing
DESCRIPTION:
URL:https://www.jacksonfh.net/obituaries/denise-peeke
LOCATION: 308 Haddon Ave  Haddon Township NJ 08108
GEO:39.9077128;-75.0459922
END:VEVENT
END:VCALENDAR